BEGIN:VCALENDAR
VERSION:2.0
CALSCALE:GREGORIAN
PRODID:-//Diputació de Barcelona//DibaCMS//EN
BEGIN:VEVENT
UID:2515
DTSTAMP:20260422T070803
DTSTART:20170723T000000
DTEND:20170723T000000
SUMMARY:FESTA MAJOR 2017 - XIV TROBADA DE PUNTAIRES
LOCATION:
METHOD:PUBLISH
X-WR-CALNAME:info.pont@elpont.cat
X-WR-TIMEZONE:Europe/Madrid
DESCRIPTION:
URI:https://www.elpont.cat/actualitat/agenda/festa-major-2017-xiv-trobada-de-puntaires.html
CLASS:PUBLIC
END:VEVENT
END:VCALENDAR
