BEGIN:VCALENDAR
VERSION:2.0
CALSCALE:GREGORIAN
PRODID:-//Diputació de Barcelona//DibaCMS//EN
BEGIN:VEVENT
UID:2516
DTSTAMP:20260422T103947
DTSTART:20170723T000000
DTEND:20170723T000000
SUMMARY:FESTA MAJOR 2017 - VINE A DONAR SANG
LOCATION:
METHOD:PUBLISH
X-WR-CALNAME:info.pont@elpont.cat
X-WR-TIMEZONE:Europe/Madrid
DESCRIPTION:
URI:https://www.elpont.cat/actualitat/agenda/festa-major-2017-vine-a-donar-sang.html
CLASS:PUBLIC
END:VEVENT
END:VCALENDAR
