BEGIN:VCALENDAR
VERSION:2.0
CALSCALE:GREGORIAN
PRODID:-//Diputació de Barcelona//DibaCMS//EN
BEGIN:VEVENT
UID:2520
DTSTAMP:20260422T114739
DTSTART:20170724T000000
DTEND:20170724T000000
SUMMARY:FESTA MAJOR 2017 - HAVANERES
LOCATION:
METHOD:PUBLISH
X-WR-CALNAME:info.pont@elpont.cat
X-WR-TIMEZONE:Europe/Madrid
DESCRIPTION:Actuació del grup Pescadors de l'escala.
 
Degustació de rom ofert per l'Associació de Pesca del Pont de Vilomara i Rocafort
URI:https://www.elpont.cat/actualitat/agenda/festa-major-2017-havaneres.html
CLASS:PUBLIC
END:VEVENT
END:VCALENDAR
