BEGIN:VCALENDAR
VERSION:2.0
CALSCALE:GREGORIAN
PRODID:-//Diputació de Barcelona//DibaCMS//EN
BEGIN:VEVENT
UID:2522
DTSTAMP:20260422T075348
DTSTART:20170724T000000
DTEND:20170724T000000
SUMMARY:FESTA MAJOR 2017 - PARC AQUÀTIC
LOCATION:
METHOD:PUBLISH
X-WR-CALNAME:info.pont@elpont.cat
X-WR-TIMEZONE:Europe/Madrid
DESCRIPTION:
URI:https://www.elpont.cat/actualitat/agenda/festa-major-2017-parc-aquatic.html
CLASS:PUBLIC
END:VEVENT
END:VCALENDAR
