BEGIN:VCALENDAR
VERSION:2.0
CALSCALE:GREGORIAN
PRODID:-//Diputació de Barcelona//DibaCMS//EN
BEGIN:VEVENT
UID:2529
DTSTAMP:20260422T081110
DTSTART:20170812T000000
DTEND:20170827T000000
SUMMARY:FESTA MAJOR DE ROCAFORT - EXPOSICIÓ DE PINTURES
LOCATION:
METHOD:PUBLISH
X-WR-CALNAME:info.pont@elpont.cat
X-WR-TIMEZONE:Europe/Madrid
DESCRIPTION:"Instants", exposició de pintura de Gemma Badenas.
 
Inauguració: 12 d'agost a les 7 de la tarda.
 
URI:https://www.elpont.cat/actualitat/agenda/festa-major-de-rocafort-exposicio-de-pintures.html
CLASS:PUBLIC
END:VEVENT
END:VCALENDAR
