BEGIN:VCALENDAR
VERSION:2.0
CALSCALE:GREGORIAN
PRODID:-//Diputació de Barcelona//DibaCMS//EN
BEGIN:VEVENT
UID:2530
DTSTAMP:20260422T075226
DTSTART:20170813T000000
DTEND:20170813T000000
SUMMARY:FESTA MAJOR DE ROCAFORT - CAMINADA POPULAR
LOCATION:
METHOD:PUBLISH
X-WR-CALNAME:info.pont@elpont.cat
X-WR-TIMEZONE:Europe/Madrid
DESCRIPTION:Cal portar frontal.
 
Hi haurà avituallament
URI:https://www.elpont.cat/actualitat/agenda/2530-festa-major-de-rocafort-caminada-popular.html
CLASS:PUBLIC
END:VEVENT
END:VCALENDAR
