BEGIN:VCALENDAR
VERSION:2.0
CALSCALE:GREGORIAN
PRODID:-//Diputació de Barcelona//DibaCMS//EN
BEGIN:VEVENT
UID:2531
DTSTAMP:20260422T112147
DTSTART:20170814T000000
DTEND:20170814T000000
SUMMARY:FESTA MAJOR DE ROCAFORT - CORRE PISCINES I VERMUT
LOCATION:
METHOD:PUBLISH
X-WR-CALNAME:info.pont@elpont.cat
X-WR-TIMEZONE:Europe/Madrid
DESCRIPTION:
URI:https://www.elpont.cat/actualitat/agenda/festa-major-de-rocafort-corre-piscines-i-vermut.html
CLASS:PUBLIC
END:VEVENT
END:VCALENDAR
