BEGIN:VCALENDAR
VERSION:2.0
CALSCALE:GREGORIAN
PRODID:-//Diputació de Barcelona//DibaCMS//EN
BEGIN:VEVENT
UID:2532
DTSTAMP:20260422T085509
DTSTART:20170814T000000
DTEND:20170814T000000
SUMMARY:FESTA MAJOR DE ROCAFORT - BALL DE FESTA MAJOR
LOCATION:
METHOD:PUBLISH
X-WR-CALNAME:info.pont@elpont.cat
X-WR-TIMEZONE:Europe/Madrid
DESCRIPTION:A càrrec de les Tietes Queques
URI:https://www.elpont.cat/actualitat/agenda/2532-festa-major-de-rocafort-ball-de-festa-major.html
CLASS:PUBLIC
END:VEVENT
END:VCALENDAR
