BEGIN:VCALENDAR
VERSION:2.0
CALSCALE:GREGORIAN
PRODID:-//Diputació de Barcelona//DibaCMS//EN
BEGIN:VEVENT
UID:2538
DTSTAMP:20260422T080138
DTSTART:20170816T000000
DTEND:20170816T000000
SUMMARY:FESTA MAJOR DE ROCAFORT - DJ SMALL HOUSE
LOCATION:
METHOD:PUBLISH
X-WR-CALNAME:info.pont@elpont.cat
X-WR-TIMEZONE:Europe/Madrid
DESCRIPTION:Concert per als més petits. Hi haurà sopar d'entrepans per a ells.
URI:https://www.elpont.cat/actualitat/agenda/festa-major-de-rocafort-dj-small-house.html
CLASS:PUBLIC
END:VEVENT
END:VCALENDAR
