BEGIN:VCALENDAR
VERSION:2.0
CALSCALE:GREGORIAN
PRODID:-//Diputació de Barcelona//DibaCMS//EN
BEGIN:VEVENT
UID:2539
DTSTAMP:20260422T041340
DTSTART:20170817T000000
DTEND:20170817T000000
SUMMARY:FESTA MAJOR DE ROCAFORT - TALLER DE TRIAL
LOCATION:
METHOD:PUBLISH
X-WR-CALNAME:info.pont@elpont.cat
X-WR-TIMEZONE:Europe/Madrid
DESCRIPTION:Cal portar bicicleta o compartir-la
URI:https://www.elpont.cat/actualitat/agenda/festa-major-de-rocafort-taller-de-trial.html
CLASS:PUBLIC
END:VEVENT
END:VCALENDAR
