BEGIN:VCALENDAR
VERSION:2.0
CALSCALE:GREGORIAN
PRODID:-//Diputació de Barcelona//DibaCMS//EN
BEGIN:VEVENT
UID:2541
DTSTAMP:20260422T043420
DTSTART:20170818T000000
DTEND:20170818T000000
SUMMARY:FESTA MAJOR DE ROCAFORT - TALLER DE CUINA
LOCATION:
METHOD:PUBLISH
X-WR-CALNAME:info.pont@elpont.cat
X-WR-TIMEZONE:Europe/Madrid
DESCRIPTION:S'elaborarà foie a partir de fetge fresc d'ànec.
URI:https://www.elpont.cat/actualitat/agenda/festa-major-de-rocafort-taller-de-cuina.html
CLASS:PUBLIC
END:VEVENT
END:VCALENDAR
