BEGIN:VCALENDAR
VERSION:2.0
CALSCALE:GREGORIAN
PRODID:-//Diputació de Barcelona//DibaCMS//EN
BEGIN:VEVENT
UID:2542
DTSTAMP:20260422T065519
DTSTART:20170818T000000
DTEND:20170818T000000
SUMMARY:FESTA MAJOR DE ROCAFORT - ESPECTACLE POETICOMUSICAL ROC CASAGRAN I CESK FREIXAS
LOCATION:
METHOD:PUBLISH
X-WR-CALNAME:info.pont@elpont.cat
X-WR-TIMEZONE:Europe/Madrid
DESCRIPTION:
URI:https://www.elpont.cat/actualitat/agenda/festa-major-de-rocafort-espectacle-poeticomusical-roc-casagran-i-cesk-freixas.html
CLASS:PUBLIC
END:VEVENT
END:VCALENDAR
