BEGIN:VCALENDAR
VERSION:2.0
CALSCALE:GREGORIAN
PRODID:-//Diputació de Barcelona//DibaCMS//EN
BEGIN:VEVENT
UID:2545
DTSTAMP:20260422T114519
DTSTART:20170819T000000
DTEND:20170819T000000
SUMMARY:FESTA MAJOR DE ROCAFORT - KARAOKE
LOCATION:
METHOD:PUBLISH
X-WR-CALNAME:info.pont@elpont.cat
X-WR-TIMEZONE:Europe/Madrid
DESCRIPTION:Grup To-ca-me-la
URI:https://www.elpont.cat/actualitat/agenda/festa-major-de-rocafort-karaoke.html
CLASS:PUBLIC
END:VEVENT
END:VCALENDAR
