BEGIN:VCALENDAR
VERSION:2.0
CALSCALE:GREGORIAN
PRODID:-//Diputació de Barcelona//DibaCMS//EN
BEGIN:VEVENT
UID:2548
DTSTAMP:20260422T075752
DTSTART:20170822T000000
DTEND:20170822T000000
SUMMARY:FESTA MAJOR DE ROCAFORT - NITS DE FINESTRA
LOCATION:
METHOD:PUBLISH
X-WR-CALNAME:info.pont@elpont.cat
X-WR-TIMEZONE:Europe/Madrid
DESCRIPTION:
URI:https://www.elpont.cat/actualitat/agenda/2548-festa-major-de-rocafort-nits-de-finestra.html
CLASS:PUBLIC
END:VEVENT
END:VCALENDAR
