BEGIN:VCALENDAR
VERSION:2.0
CALSCALE:GREGORIAN
PRODID:-//Diputació de Barcelona//DibaCMS//EN
BEGIN:VEVENT
UID:2552
DTSTAMP:20260422T093011
DTSTART:20170826T000000
DTEND:20170826T000000
SUMMARY:FESTA MAJOR DE ROCAFORT - CONEGUEM LES PLANTES DE L'ENTORN
LOCATION:
METHOD:PUBLISH
X-WR-CALNAME:info.pont@elpont.cat
X-WR-TIMEZONE:Europe/Madrid
DESCRIPTION:A càrrec d'Esteve Padullés
URI:https://www.elpont.cat/actualitat/agenda/festa-major-de-rocafort-coneguem-les-plantes-de-lentorn.html
CLASS:PUBLIC
END:VEVENT
END:VCALENDAR
