BEGIN:VCALENDAR
VERSION:2.0
CALSCALE:GREGORIAN
PRODID:-//Diputació de Barcelona//DibaCMS//EN
BEGIN:VEVENT
UID:2553
DTSTAMP:20260422T054945
DTSTART:20170826T000000
DTEND:20170826T000000
SUMMARY:FESTA MAJOR DE ROCAFORT - CIGRONADA I XOU
LOCATION:
METHOD:PUBLISH
X-WR-CALNAME:info.pont@elpont.cat
X-WR-TIMEZONE:Europe/Madrid
DESCRIPTION:Cal portar parament i estris.
 
Al xou cada participants podrà actuar amb un màxim de dos espectacles.
URI:https://www.elpont.cat/actualitat/agenda/festa-major-de-rocafort-cigronada-i-xou.html
CLASS:PUBLIC
END:VEVENT
END:VCALENDAR
