BEGIN:VCALENDAR
VERSION:2.0
CALSCALE:GREGORIAN
PRODID:-//Diputació de Barcelona//DibaCMS//EN
BEGIN:VEVENT
UID:2554
DTSTAMP:20260422T082033
DTSTART:20170902T000000
DTEND:20170902T000000
SUMMARY:FESTA MAJOR DEL MARQUET PARADÍS - GRAN BALL DE FESTA MAJOR
LOCATION:
METHOD:PUBLISH
X-WR-CALNAME:info.pont@elpont.cat
X-WR-TIMEZONE:Europe/Madrid
DESCRIPTION:Amb disco mòbil i grup d'animació
URI:https://www.elpont.cat/actualitat/agenda/2554-festa-major-del-marquet-paradis-gran-ball-de-festa-major.html
CLASS:PUBLIC
END:VEVENT
END:VCALENDAR
