BEGIN:VCALENDAR
VERSION:2.0
CALSCALE:GREGORIAN
PRODID:-//Diputació de Barcelona//DibaCMS//EN
BEGIN:VEVENT
UID:2555
DTSTAMP:20260422T081657
DTSTART:20170902T000000
DTEND:20170902T000000
SUMMARY:FESTA MAJOR DEL MARQUET PARADÍS - GRAN FESTA HOLI
LOCATION:
METHOD:PUBLISH
X-WR-CALNAME:info.pont@elpont.cat
X-WR-TIMEZONE:Europe/Madrid
DESCRIPTION:Amb sorteijos i sorpreses.
 
Vine a colorejar-te i a ballar.
 
Seguidament hi haurà Festa de l'Escuma.
URI:https://www.elpont.cat/actualitat/agenda/festa-major-del-marquet-paradis-gran-festa-holi.html
CLASS:PUBLIC
END:VEVENT
END:VCALENDAR
