BEGIN:VCALENDAR
VERSION:2.0
CALSCALE:GREGORIAN
PRODID:-//Diputació de Barcelona//DibaCMS//EN
BEGIN:VEVENT
UID:2556
DTSTAMP:20260422T082626
DTSTART:20170902T000000
DTEND:20170902T000000
SUMMARY:FESTA MAJOR DEL MARQUET PARADÍS - GUERRA D'AIGUA AMB GLOBUS I MANGUERES
LOCATION:
METHOD:PUBLISH
X-WR-CALNAME:info.pont@elpont.cat
X-WR-TIMEZONE:Europe/Madrid
DESCRIPTION:No hio haurà recorregut
URI:https://www.elpont.cat/actualitat/agenda/festa-major-del-marquet-paradis-guerra-daigua-amb-globus-i-mangueres.html
CLASS:PUBLIC
END:VEVENT
END:VCALENDAR
