BEGIN:VCALENDAR
VERSION:2.0
CALSCALE:GREGORIAN
PRODID:-//Diputació de Barcelona//DibaCMS//EN
BEGIN:VEVENT
UID:2558
DTSTAMP:20260422T093449
DTSTART:20170902T000000
DTEND:20170902T000000
SUMMARY:FESTA MAJOR DEL MARQUET PARADÍS - CONCURS DE PETANCA
LOCATION:
METHOD:PUBLISH
X-WR-CALNAME:info.pont@elpont.cat
X-WR-TIMEZONE:Europe/Madrid
DESCRIPTION:Per a tots els públics
URI:https://www.elpont.cat/actualitat/agenda/2558-festa-major-del-marquet-paradis-concurs-de-petanca.html
CLASS:PUBLIC
END:VEVENT
END:VCALENDAR
