BEGIN:VCALENDAR
VERSION:2.0
CALSCALE:GREGORIAN
PRODID:-//Diputació de Barcelona//DibaCMS//EN
BEGIN:VEVENT
UID:2559
DTSTAMP:20260422T081840
DTSTART:20170903T000000
DTEND:20170903T000000
SUMMARY:FESTA MAJOR DEL MARQUET PARADÍS - MISA DE FESTA MAJOR
LOCATION:
METHOD:PUBLISH
X-WR-CALNAME:info.pont@elpont.cat
X-WR-TIMEZONE:Europe/Madrid
DESCRIPTION:Oficiada pel Mossèn del Pont de Vilomara i Rocafort.
 
Seguidament hi haurà un petit refrigeri al mateix lloc.
 
Tothom que ho vulgui pot portar el seu menjar i dinarem tots junts.
URI:https://www.elpont.cat/actualitat/agenda/festa-major-del-marquet-paradis-misa-de-festa-major.html
CLASS:PUBLIC
END:VEVENT
END:VCALENDAR
