BEGIN:VCALENDAR
VERSION:2.0
CALSCALE:GREGORIAN
PRODID:-//Diputació de Barcelona//DibaCMS//EN
BEGIN:VEVENT
UID:2560
DTSTAMP:20260422T111915
DTSTART:20170903T000000
DTEND:20170903T000000
SUMMARY:FESTA MAJOR DEL MARQUET PARADÍS - FINAL DE FESTA AMB GRAN XOCOLATADA PER A TOTHOM
LOCATION:
METHOD:PUBLISH
X-WR-CALNAME:info.pont@elpont.cat
X-WR-TIMEZONE:Europe/Madrid
DESCRIPTION:
URI:https://www.elpont.cat/actualitat/agenda/festa-major-del-marquet-paradis-final-de-festa-amb-gran-xocolatada-per-a-tothom.html
CLASS:PUBLIC
END:VEVENT
END:VCALENDAR
