BEGIN:VCALENDAR
VERSION:2.0
CALSCALE:GREGORIAN
PRODID:-//Diputació de Barcelona//DibaCMS//EN
BEGIN:VEVENT
UID:2562
DTSTAMP:20260422T093751
DTSTART:20170904T000000
DTEND:20170904T000000
SUMMARY:INICI DE LA NOVA TEMPORADA A LA SALA POLIVALENT
LOCATION:
METHOD:PUBLISH
X-WR-CALNAME:info.pont@elpont.cat
X-WR-TIMEZONE:Europe/Madrid
DESCRIPTION:
URI:https://www.elpont.cat/actualitat/agenda/inici-de-la-nova-temporada-a-la-sala-polivalent.html
CLASS:PUBLIC
END:VEVENT
END:VCALENDAR
