BEGIN:VCALENDAR
VERSION:2.0
CALSCALE:GREGORIAN
PRODID:-//Diputació de Barcelona//DibaCMS//EN
BEGIN:VEVENT
UID:2563
DTSTAMP:20260422T094034
DTSTART:20170912T000000
DTEND:20171002T000000
SUMMARY:XXXVI HOMENATGE A LA GENT GRAN - EXPOSICIÓ
LOCATION:
METHOD:PUBLISH
X-WR-CALNAME:info.pont@elpont.cat
X-WR-TIMEZONE:Europe/Madrid
DESCRIPTION:Exposició de construccions en miniatura a càrrec de Clemencio Urango, pintures d’Heribert Soriano i cadires en miniatura de Joan Paredes.
URI:https://www.elpont.cat/actualitat/agenda/xxxvi-homenatge-a-la-gent-gran-exposicio.html
CLASS:PUBLIC
END:VEVENT
END:VCALENDAR
