BEGIN:VCALENDAR
VERSION:2.0
CALSCALE:GREGORIAN
PRODID:-//Diputació de Barcelona//DibaCMS//EN
BEGIN:VEVENT
UID:2564
DTSTAMP:20260422T081807
DTSTART:20170915T000000
DTEND:20170915T000000
SUMMARY:XIII CAP DE SETMANA DE LA JOVENTUT - MALGYMCANA NOCTURNA AMB DJ
LOCATION:
METHOD:PUBLISH
X-WR-CALNAME:info.pont@elpont.cat
X-WR-TIMEZONE:Europe/Madrid
DESCRIPTION:Concentració dels participants al poliesportiu.
 
Els equips seran de com a mínim 5 persones i s’hauran de pagar 2 € per cada membre del grup a les Oficines de l’Ajuntament en el moment d’inscriure’s. Inscripcions fins dijous 14 de setembre.
 
Els menors de 16 anys hauran d’anar a companyats d’un adult i amb l’autorització del pare/mare o tutor.
URI:https://www.elpont.cat/actualitat/agenda/xiii-cap-de-setmana-de-la-joventut-malgymcana-nocturna-amb-dj.html
CLASS:PUBLIC
END:VEVENT
END:VCALENDAR
