BEGIN:VCALENDAR
VERSION:2.0
CALSCALE:GREGORIAN
PRODID:-//Diputació de Barcelona//DibaCMS//EN
BEGIN:VEVENT
UID:2565
DTSTAMP:20260422T081217
DTSTART:20170916T000000
DTEND:20170916T000000
SUMMARY:XIII CAP DE SETMANA DE LA JOVENTUT - CORRE-TASQUES AMB BATUCADA
LOCATION:
METHOD:PUBLISH
X-WR-CALNAME:info.pont@elpont.cat
X-WR-TIMEZONE:Europe/Madrid
DESCRIPTION:
URI:https://www.elpont.cat/actualitat/agenda/xiii-cap-de-setmana-de-la-joventut-corre-tasques-amb-batucada.html
CLASS:PUBLIC
END:VEVENT
END:VCALENDAR
