BEGIN:VCALENDAR
VERSION:2.0
CALSCALE:GREGORIAN
PRODID:-//Diputació de Barcelona//DibaCMS//EN
BEGIN:VEVENT
UID:2566
DTSTAMP:20260422T081402
DTSTART:20170917T000000
DTEND:20170917T000000
SUMMARY:XIII CAP DE SETMANA DE LA JOVENTUT - TORNEIG DE VÒLEI PLATJA
LOCATION:
METHOD:PUBLISH
X-WR-CALNAME:info.pont@elpont.cat
X-WR-TIMEZONE:Europe/Madrid
DESCRIPTION:Els equips estaran formats per 3 jugadors/es.
 
Hi haurà dues categories: de 12 a 16 anys i majors de 16 anys.
 
El dia del torneig s’haurà d’estar al lloc mitja hora abans per tal de poder organitzar els equips.
URI:https://www.elpont.cat/actualitat/agenda/xiii-cap-de-setmana-de-la-joventut-torneig-de-volei-platja.html
CLASS:PUBLIC
END:VEVENT
END:VCALENDAR
