BEGIN:VCALENDAR
VERSION:2.0
CALSCALE:GREGORIAN
PRODID:-//Diputació de Barcelona//DibaCMS//EN
BEGIN:VEVENT
UID:2567
DTSTAMP:20260422T114540
DTSTART:20170919T000000
DTEND:20170919T000000
SUMMARY:XXXVI HOMENATGE A LA GENT GRAN - PROJECCIÓ DE FOTOGRAFIES ANTIGUES
LOCATION:
METHOD:PUBLISH
X-WR-CALNAME:info.pont@elpont.cat
X-WR-TIMEZONE:Europe/Madrid
DESCRIPTION:Projecció de fotografies antigues del Pont de Vilomara i Rocafort (reviu la història del nostre poble a través de les imatges)
URI:https://www.elpont.cat/actualitat/agenda/xxxvi-homenatge-a-la-gent-gran-projeccio-de-fotografies-antigues.html
CLASS:PUBLIC
END:VEVENT
END:VCALENDAR
