BEGIN:VCALENDAR
VERSION:2.0
CALSCALE:GREGORIAN
PRODID:-//Diputació de Barcelona//DibaCMS//EN
BEGIN:VEVENT
UID:2568
DTSTAMP:20260422T114913
DTSTART:20170920T000000
DTEND:20170920T000000
SUMMARY:REUNIÓ INFORMATIVA DE L'INICI DEL CURS AL CASAL &quot;EL MOLÍ&quot;
LOCATION:
METHOD:PUBLISH
X-WR-CALNAME:info.pont@elpont.cat
X-WR-TIMEZONE:Europe/Madrid
DESCRIPTION:
URI:https://www.elpont.cat/actualitat/agenda/2568-reunio-informativa-de-linici-del-curs-al-casal-andquotel-moliandquot.html
CLASS:PUBLIC
END:VEVENT
END:VCALENDAR
