BEGIN:VCALENDAR
VERSION:2.0
CALSCALE:GREGORIAN
PRODID:-//Diputació de Barcelona//DibaCMS//EN
BEGIN:VEVENT
UID:2570
DTSTAMP:20260423T021334
DTSTART:20170923T000000
DTEND:20170923T000000
SUMMARY:XIII CAP DE SETMANA DE LA JOVENTUT - VINE A JUGAR A L'ESCAPE BOOK
LOCATION:
METHOD:PUBLISH
X-WR-CALNAME:info.pont@elpont.cat
X-WR-TIMEZONE:Europe/Madrid
DESCRIPTION:Presentació del llibre "Escape book: el secreto del Club Wanstein" a càrrec de l'autor Ivan Tapia.
 
Presentació de jocs intel·ligents que s’inspiren en el món de l'escape room.
 
T'ATREVEIXES A PARTICIPAR?????
 
L’activitat està dirigida especialment per a joves i adults majors de 14 anys.
URI:https://www.elpont.cat/actualitat/agenda/xiii-cap-de-setmana-de-la-joventut-vine-a-jugar-a-lescape-book.html
CLASS:PUBLIC
END:VEVENT
END:VCALENDAR
