BEGIN:VCALENDAR
VERSION:2.0
CALSCALE:GREGORIAN
PRODID:-//Diputació de Barcelona//DibaCMS//EN
BEGIN:VEVENT
UID:2571
DTSTAMP:20260422T151319
DTSTART:20170924T000000
DTEND:20170924T000000
SUMMARY:XXXVI HOMENATGE A LA GENT GRAN - MISSA D'ACCIÓ DE GRÀCIES
LOCATION:
METHOD:PUBLISH
X-WR-CALNAME:info.pont@elpont.cat
X-WR-TIMEZONE:Europe/Madrid
DESCRIPTION:
URI:https://www.elpont.cat/actualitat/agenda/xxxvi-homenatge-a-la-gent-gran-missa-daccio-de-gracies.html
CLASS:PUBLIC
END:VEVENT
END:VCALENDAR
