BEGIN:VCALENDAR
VERSION:2.0
CALSCALE:GREGORIAN
PRODID:-//Diputació de Barcelona//DibaCMS//EN
BEGIN:VEVENT
UID:2572
DTSTAMP:20260422T114556
DTSTART:20170924T000000
DTEND:20170924T000000
SUMMARY:XXXVI HOMENATGE A LA GENT GRAN
LOCATION:
METHOD:PUBLISH
X-WR-CALNAME:info.pont@elpont.cat
X-WR-TIMEZONE:Europe/Madrid
DESCRIPTION:Espectacle “VIURE LA VIDA” a càrrec de les Estrelles del Pont.
 
Muntatge i direcció “Els Atrevits”.
 
Entrega d’un obsequi a tots els homenatjats.
 
Entrega d’un diploma a les persones que compleixen 85 anys durant el 2017.
 
Entrega d’un regal sorpresa als avis de més edat:
                    
CANDELARIA LOZANO FIGUEROLA           14/04/1918
LLUIS CAMPRUBÍ SERRA                         13/01/1919
JUAN ROMERO ALCARAZ                         26/07/1919
MARIA LOPEZ GAZQUEZ                          25/06/1920
URI:https://www.elpont.cat/actualitat/agenda/2572-xxxvi-homenatge-a-la-gent-gran.html
CLASS:PUBLIC
END:VEVENT
END:VCALENDAR
