BEGIN:VCALENDAR
VERSION:2.0
CALSCALE:GREGORIAN
PRODID:-//Diputació de Barcelona//DibaCMS//EN
BEGIN:VEVENT
UID:2573
DTSTAMP:20260422T114250
DTSTART:20170924T000000
DTEND:20170924T000000
SUMMARY:XXXVI HOMENATGE A LA GENT GRAN - CERCAVILA DELS GEGANTS I GRALLERS
LOCATION:
METHOD:PUBLISH
X-WR-CALNAME:info.pont@elpont.cat
X-WR-TIMEZONE:Europe/Madrid
DESCRIPTION:A càrrec del Grup d'Infància i Joventut
URI:https://www.elpont.cat/actualitat/agenda/xxxvi-homenatge-a-la-gent-gran-cercavila-dels-gegants-i-grallers.html
CLASS:PUBLIC
END:VEVENT
END:VCALENDAR
