BEGIN:VCALENDAR
VERSION:2.0
CALSCALE:GREGORIAN
PRODID:-//Diputació de Barcelona//DibaCMS//EN
BEGIN:VEVENT
UID:2574
DTSTAMP:20260422T114413
DTSTART:20170924T000000
DTEND:20170924T000000
SUMMARY:XXXVI HOMENATGE A LA GENT GRAN - ACTUACIÓ DE L'ESBART DANSAIRE VILOMARENC
LOCATION:
METHOD:PUBLISH
X-WR-CALNAME:info.pont@elpont.cat
X-WR-TIMEZONE:Europe/Madrid
DESCRIPTION:
URI:https://www.elpont.cat/actualitat/agenda/xxxvi-homenatge-a-la-gent-gran-actuacio-de-lesbart-dansaire-vilomarenc.html
CLASS:PUBLIC
END:VEVENT
END:VCALENDAR
