BEGIN:VCALENDAR
VERSION:2.0
CALSCALE:GREGORIAN
PRODID:-//Diputació de Barcelona//DibaCMS//EN
BEGIN:VEVENT
UID:2575
DTSTAMP:20260422T102210
DTSTART:20170924T000000
DTEND:20170924T000000
SUMMARY:XXXVI HOMENATGE A LA GENT GRAN - MISSA SOLEMNE EN ACCIÓ DE GRÀCIES
LOCATION:
METHOD:PUBLISH
X-WR-CALNAME:info.pont@elpont.cat
X-WR-TIMEZONE:Europe/Madrid
DESCRIPTION:Música a càrrec del cor parroquial "Santa Maria Magdalena" amb Cant dels Goigs i obsequi d'un ram de flors a la gent gran.
URI:https://www.elpont.cat/actualitat/agenda/xxxvi-homenatge-a-la-gent-gran-missa-solemne-en-accio-de-gracies.html
CLASS:PUBLIC
END:VEVENT
END:VCALENDAR
