BEGIN:VCALENDAR
VERSION:2.0
CALSCALE:GREGORIAN
PRODID:-//Diputació de Barcelona//DibaCMS//EN
BEGIN:VEVENT
UID:2576
DTSTAMP:20260422T114213
DTSTART:20170926T000000
DTEND:20170926T000000
SUMMARY:PLE EXTRAORDINARI PER AL 26 DE SETEMBRE DE 2017
LOCATION:
METHOD:PUBLISH
X-WR-CALNAME:info.pont@elpont.cat
X-WR-TIMEZONE:Europe/Madrid
DESCRIPTION:
URI:https://www.elpont.cat/actualitat/agenda/2576-ple-extraordinari-per-al-26-de-setembre-de-2017.html
CLASS:PUBLIC
END:VEVENT
END:VCALENDAR
