BEGIN:VCALENDAR
VERSION:2.0
CALSCALE:GREGORIAN
PRODID:-//Diputació de Barcelona//DibaCMS//EN
BEGIN:VEVENT
UID:2577
DTSTAMP:20260422T085423
DTSTART:20170926T000000
DTEND:20170926T000000
SUMMARY:TERTÚLIA LITERÀRIA &quot;FIL I CARBÓ&quot;
LOCATION:
METHOD:PUBLISH
X-WR-CALNAME:info.pont@elpont.cat
X-WR-TIMEZONE:Europe/Madrid
DESCRIPTION:Tertúlia literària sobre la novel·la "Fil i Carbó" amb la presència del seu autor Ramon Soler.
URI:https://www.elpont.cat/actualitat/agenda/tertulia-literaria-andquotfil-i-carboandquot.html
CLASS:PUBLIC
END:VEVENT
END:VCALENDAR
