BEGIN:VCALENDAR
VERSION:2.0
CALSCALE:GREGORIAN
PRODID:-//Diputació de Barcelona//DibaCMS//EN
BEGIN:VEVENT
UID:2578
DTSTAMP:20260422T104410
DTSTART:20170927T000000
DTEND:20170927T000000
SUMMARY:XXXVI HOMENATGE A LA GENT GRAN - CONSELLS SALUDABLES I EXERCICIS ACTIVADORS
LOCATION:
METHOD:PUBLISH
X-WR-CALNAME:info.pont@elpont.cat
X-WR-TIMEZONE:Europe/Madrid
DESCRIPTION:Programa Gent Gran Activa – Programa d’Educació Sanitària a la Gent Gran
 
“CUIDEM LA NOSTRA POSTURA” - CONSELLS SALUDABLES I EXERCICIS ACTIVADORS
URI:https://www.elpont.cat/actualitat/agenda/xxxvi-homenatge-a-la-gent-gran-consells-saludables-i-exercicis-activadors.html
CLASS:PUBLIC
END:VEVENT
END:VCALENDAR
