BEGIN:VCALENDAR
VERSION:2.0
CALSCALE:GREGORIAN
PRODID:-//Diputació de Barcelona//DibaCMS//EN
BEGIN:VEVENT
UID:2579
DTSTAMP:20260422T114938
DTSTART:20170930T000000
DTEND:20170930T000000
SUMMARY:EL REBOST DE L'ANDERSEN - STORY TELLING
LOCATION:
METHOD:PUBLISH
X-WR-CALNAME:info.pont@elpont.cat
X-WR-TIMEZONE:Europe/Madrid
DESCRIPTION:Contes en Anglès a càrrec d'Alba Santamaria
URI:https://www.elpont.cat/actualitat/agenda/el-rebost-de-landersen-story-telling.html
CLASS:PUBLIC
END:VEVENT
END:VCALENDAR
