BEGIN:VCALENDAR
VERSION:2.0
CALSCALE:GREGORIAN
PRODID:-//Diputació de Barcelona//DibaCMS//EN
BEGIN:VEVENT
UID:2580
DTSTAMP:20260422T130342
DTSTART:20171014T000000
DTEND:20171031T000000
SUMMARY:EXPOSICIÓ &quot;MINIMALISMES ESTÀTICS&quot;
LOCATION:
METHOD:PUBLISH
X-WR-CALNAME:info.pont@elpont.cat
X-WR-TIMEZONE:Europe/Madrid
DESCRIPTION:Obres de l'artistA rocafortí Zerlick.
 
Inauguració dissabte 14 d'octubre a les 12 del migdia.
URI:https://www.elpont.cat/actualitat/agenda/exposicio-andquotminimalismes-estaticsandquot.html
CLASS:PUBLIC
END:VEVENT
END:VCALENDAR
