BEGIN:VCALENDAR
VERSION:2.0
CALSCALE:GREGORIAN
PRODID:-//Diputació de Barcelona//DibaCMS//EN
BEGIN:VEVENT
UID:2582
DTSTAMP:20260423T061236
DTSTART:20171017T000000
DTEND:20171017T000000
SUMMARY:TALLER D'ORDRE CONSCIENT
LOCATION:
METHOD:PUBLISH
X-WR-CALNAME:info.pont@elpont.cat
X-WR-TIMEZONE:Europe/Madrid
DESCRIPTION:
Perquè es desordenen els objectes i com evitar-ho.
Perquè acumulem, què s'amaga darrera d'aquest hàbit.
Aprendre a desprendre'ns.
Ordre Conscient - la importància d'ordenar per fora per ordenar-te per dins.

 
Taller a càrrec d'Elisabet Temporal, personal&mental organizer.
URI:https://www.elpont.cat/actualitat/agenda/taller-dordre-conscient.html
CLASS:PUBLIC
END:VEVENT
END:VCALENDAR
