BEGIN:VCALENDAR
VERSION:2.0
CALSCALE:GREGORIAN
PRODID:-//Diputació de Barcelona//DibaCMS//EN
BEGIN:VEVENT
UID:2583
DTSTAMP:20260422T074250
DTSTART:20171018T000000
DTEND:20171018T000000
SUMMARY:LA GRIP: MESSURES PREVENTIVES I BON ÚS DELS RECURSOS SANITARIS
LOCATION:
METHOD:PUBLISH
X-WR-CALNAME:info.pont@elpont.cat
X-WR-TIMEZONE:Europe/Madrid
DESCRIPTION:A càrrec de Fina Olmo, infermera comunitària de l'ABS del Pont de Vilomara i Rocafort
URI:https://www.elpont.cat/actualitat/agenda/la-grip-messures-preventives-i-bon-us-dels-recursos-sanitaris.html
CLASS:PUBLIC
END:VEVENT
END:VCALENDAR
