BEGIN:VCALENDAR
VERSION:2.0
CALSCALE:GREGORIAN
PRODID:-//Diputació de Barcelona//DibaCMS//EN
BEGIN:VEVENT
UID:2585
DTSTAMP:20260422T172635
DTSTART:20171021T000000
DTEND:20171021T000000
SUMMARY:EL REBOST DE L'ANDERSEN - UN CABÀS PLE DE .... PEIXOS DESPISTATS
LOCATION:
METHOD:PUBLISH
X-WR-CALNAME:info.pont@elpont.cat
X-WR-TIMEZONE:Europe/Madrid
DESCRIPTION:Contes i taller de manualitats
URI:https://www.elpont.cat/actualitat/agenda/el-rebost-de-landersen-un-cabas-ple-de--peixos-despistats.html
CLASS:PUBLIC
END:VEVENT
END:VCALENDAR
