BEGIN:VCALENDAR
VERSION:2.0
CALSCALE:GREGORIAN
PRODID:-//Diputació de Barcelona//DibaCMS//EN
BEGIN:VEVENT
UID:2586
DTSTAMP:20260422T091025
DTSTART:20171024T000000
DTEND:20171024T000000
SUMMARY:ESMORZARS I BERENARS SANS
LOCATION:
METHOD:PUBLISH
X-WR-CALNAME:info.pont@elpont.cat
X-WR-TIMEZONE:Europe/Madrid
DESCRIPTION:Taller on aprendrem a elaborar receptes originals i amb ingredients naturals d'esmorzars i berenars per a tota la família!
 
L'activitat anirà a càrrec de Gina Estapé del blog "My Healthy Bites"
URI:https://www.elpont.cat/actualitat/agenda/esmorzars-i-berenars-sans.html
CLASS:PUBLIC
END:VEVENT
END:VCALENDAR
