BEGIN:VCALENDAR
VERSION:2.0
CALSCALE:GREGORIAN
PRODID:-//Diputació de Barcelona//DibaCMS//EN
BEGIN:VEVENT
UID:2587
DTSTAMP:20260422T093058
DTSTART:20171025T000000
DTEND:20171025T000000
SUMMARY:TERTÚLIA LITERÀRIA &quot;DIES SENSE GLÒRIA&quot;
LOCATION:
METHOD:PUBLISH
X-WR-CALNAME:info.pont@elpont.cat
X-WR-TIMEZONE:Europe/Madrid
DESCRIPTION:Tertúlia literària sobre la novel·la "Dies sense glòria" amb la presència de la seva autora Sílvia Alcàntara
URI:https://www.elpont.cat/actualitat/agenda/tertulia-literaria-andquotdies-sense-gloriaandquot.html
CLASS:PUBLIC
END:VEVENT
END:VCALENDAR
