BEGIN:VCALENDAR
VERSION:2.0
CALSCALE:GREGORIAN
PRODID:-//Diputació de Barcelona//DibaCMS//EN
BEGIN:VEVENT
UID:2588
DTSTAMP:20260422T093145
DTSTART:20171030T000000
DTEND:20171030T000000
SUMMARY:PLE ORDINARI PER AL 30 D'OCTUBRE DE 2017
LOCATION:
METHOD:PUBLISH
X-WR-CALNAME:info.pont@elpont.cat
X-WR-TIMEZONE:Europe/Madrid
DESCRIPTION:
URI:https://www.elpont.cat/actualitat/agenda/2588-ple-ordinari-per-al-30-doctubre-de-2017.html
CLASS:PUBLIC
END:VEVENT
END:VCALENDAR
