BEGIN:VCALENDAR
VERSION:2.0
CALSCALE:GREGORIAN
PRODID:-//Diputació de Barcelona//DibaCMS//EN
BEGIN:VEVENT
UID:2589
DTSTAMP:20260422T111251
DTSTART:20171031T000000
DTEND:20171031T000000
SUMMARY:EL BOSQUET ENCANTAT PER NENS I NENES
LOCATION:
METHOD:PUBLISH
X-WR-CALNAME:info.pont@elpont.cat
X-WR-TIMEZONE:Europe/Madrid
DESCRIPTION:
Rua Terrorífica a les 8 del vespre, vine terroríficament disfressat. Sortida des de la Plaça de l'Ajuntament.
Inici Bosquet Encantat a les 8:30 del vespre, entrada per grups.
Botifarrada amb servei de bar al Casal.

URI:https://www.elpont.cat/actualitat/agenda/el-bosquet-encantat-per-nens-i-nenes.html
CLASS:PUBLIC
END:VEVENT
END:VCALENDAR
