BEGIN:VCALENDAR
VERSION:2.0
CALSCALE:GREGORIAN
PRODID:-//Diputació de Barcelona//DibaCMS//EN
BEGIN:VEVENT
UID:2590
DTSTAMP:20260422T090758
DTSTART:20171101T000000
DTEND:20171101T000000
SUMMARY:VENDA DE CASTANYES
LOCATION:
METHOD:PUBLISH
X-WR-CALNAME:info.pont@elpont.cat
X-WR-TIMEZONE:Europe/Madrid
DESCRIPTION:
URI:https://www.elpont.cat/actualitat/agenda/venda-de-castanyes.html
CLASS:PUBLIC
END:VEVENT
END:VCALENDAR
