BEGIN:VCALENDAR
VERSION:2.0
CALSCALE:GREGORIAN
PRODID:-//Diputació de Barcelona//DibaCMS//EN
BEGIN:VEVENT
UID:2592
DTSTAMP:20260422T081228
DTSTART:20171109T000000
DTEND:20171109T000000
SUMMARY:PROGRAMA GENT GRAN ACTIVA: BALL AMB JOAN ALTARRIBA
LOCATION:
METHOD:PUBLISH
X-WR-CALNAME:info.pont@elpont.cat
X-WR-TIMEZONE:Europe/Madrid
DESCRIPTION:
URI:https://www.elpont.cat/actualitat/agenda/programa-gent-gran-activa-ball-amb-joan-altarriba.html
CLASS:PUBLIC
END:VEVENT
END:VCALENDAR
