BEGIN:VCALENDAR
VERSION:2.0
CALSCALE:GREGORIAN
PRODID:-//Diputació de Barcelona//DibaCMS//EN
BEGIN:VEVENT
UID:2593
DTSTAMP:20260422T093044
DTSTART:20171110T000000
DTEND:20171115T000000
SUMMARY:RECOLLIDA DE JOGUINES PER AL PRIMER MERCAT D'INTERCANVI
LOCATION:
METHOD:PUBLISH
X-WR-CALNAME:info.pont@elpont.cat
X-WR-TIMEZONE:Europe/Madrid
DESCRIPTION:PUNTS DE RECOLLIDA DE JOGUINES:
 


Biblioteca Municipal (del 10 al 15 de novembre a les tardes)
Casal de la infància "El Molí" (del 10 al 15 de novembre a les tardes)
AMPA Escola Pompeu Fabra (16 i 17 de novembre de 15 a 16,30h).


URI:https://www.elpont.cat/actualitat/agenda/recollida-de-joguines-per-al-primer-mercat-dintercanvi.html
CLASS:PUBLIC
END:VEVENT
END:VCALENDAR
